BEGIN:VCALENDAR
VERSION:2.0
PRODID:-//NY Demolay - ECPv6.14.2//NONSGML v1.0//EN
CALSCALE:GREGORIAN
METHOD:PUBLISH
X-WR-CALNAME:NY Demolay
X-ORIGINAL-URL:https://wp.nydemolay.net
X-WR-CALDESC:Events for NY Demolay
REFRESH-INTERVAL;VALUE=DURATION:PT1H
X-Robots-Tag:noindex
X-PUBLISHED-TTL:PT1H
BEGIN:VTIMEZONE
TZID:UTC
BEGIN:STANDARD
TZOFFSETFROM:+0000
TZOFFSETTO:+0000
TZNAME:UTC
DTSTART:20250101T000000
END:STANDARD
END:VTIMEZONE
BEGIN:VEVENT
DTSTART;TZID=UTC:20251026T160000
DTEND;TZID=UTC:20251026T200000
DTSTAMP:20260420T145959
CREATED:20251012T162752Z
LAST-MODIFIED:20251012T162752Z
UID:10000009-1761494400-1761508800@wp.nydemolay.net
SUMMARY:Electric City Fright Fest
DESCRIPTION:Join the young men and women of Electric City for a fun fright fest!\n22 schonowee ave scotia ny 12302
URL:https://wp.nydemolay.net/event/electric-city-fright-fest/
LOCATION:Scotia Masonic Temple\, 10/26 22 schonowee ave\, scotia\, ny\, 12302\, United States
ATTACH;FMTTYPE=image/jpeg:https://wp.nydemolay.net/wp-content/uploads/sites/11/2025/10/552402028_10164323115597125_1083380288758346919_n-1.jpg
END:VEVENT
END:VCALENDAR